{"text_format":"3","workbook":"xlsx","n_sheets":2,"sheets":["Blad1","printblad"],"not_rendered":{"macros":1,"defined_names":1},"read":"whole","date_system":"1900"}

{"sheet":"Blad1","index":0,"n_rows":27,"n_cols":17,"rows_kept":27,"merged":[[5,2,5,12],[7,4,7,6],[7,7,7,9],[7,10,7,12],[8,2,15,2],[16,2,25,2],[26,2,31,2]]}
[]
[]
[null,null,"Kandidaatnaam:",{"$nulls":13},"geselecteerde activiteit"]
[null,null,"Kandidaatnummer:"]
[]
[null,null,"draaiboek"]
[]
[null,null,"    onderdelen","                       activiteiten","2 tot 4 weken van tevoren",null,null,"1 à 2 dagen van\ntevoren",null,null,"op de dag zelf",{"$nulls":5},"activiteiten"]
[null,null,"voorbereiding",{"$nulls":13},"boodschappen halen"]
[{"$nulls":16},"brooddeeg maken"]
[{"$nulls":16},"broodjes bakken"]
[{"$nulls":16},"flyers verspreiden"]
[{"$nulls":16},"herinnering versturen per e-mail"]
[{"$nulls":16},"indianendag nabespreken"]
[{"$nulls":16},"indianendiploma ontwerpen"]
[{"$nulls":16},"indianendiploma uitdelen"]
[null,null,"uitvoering",{"$nulls":13},"indianentent reserveren"]
[{"$nulls":16},"indianentooi maken"]
[{"$nulls":16},"kinderen ontvangen"]
[{"$nulls":16},"knutselmaterialen bestellen"]
[{"$nulls":16},"liedjes zingen"]
[{"$nulls":16},"luisteren naar indianenverhalen"]
[{"$nulls":16},"lunchen"]
[{"$nulls":16},"schminken"]
[{"$nulls":16},"spelletjes en indianentent opruimen"]
[{"$nulls":16},"spelletjes spelen en springen op luchtkussen"]
[null,null,"opruimen/\nevaluatie"]

{"sheet":"printblad","index":1,"n_rows":32,"n_cols":12,"rows_kept":32,"merged":[[5,2,5,12],[7,4,7,6],[7,7,7,9],[7,10,7,12],[8,2,15,2],[16,2,25,2],[26,2,31,2]]}
[]
[]
[null,null,{"$f":"Blad1!C3","v":"Kandidaatnaam:"},{"$f":"Blad1!D3","v":0}]
[null,null,{"$f":"Blad1!C4","v":"Kandidaatnummer:"},{"$f":"Blad1!D4","v":0}]
[]
[null,null,{"$f":"Blad1!C6","v":"draaiboek"}]
[]
[null,null,{"$f":"Blad1!C8","v":"    onderdelen"},{"$f":"Blad1!D8","v":"                       activiteiten"},{"$f":"Blad1!E8","v":"2 tot 4 weken van tevoren"},null,null,{"$f":"Blad1!H8","v":"1 à 2 dagen van\ntevoren"},null,null,{"$f":"Blad1!K8","v":"op de dag zelf"}]
[null,null,{"$f":"Blad1!C9","v":"voorbereiding"},{"$f":"Blad1!D9","v":0},null,{"$f":"Blad1!F9","v":0},null,null,{"$f":"Blad1!I9","v":0},null,null,{"$f":"Blad1!L9","v":0}]
[{"$nulls":3},{"$f":"Blad1!D10","v":0},null,{"$f":"Blad1!F10","v":0},null,null,{"$f":"Blad1!I10","v":0},null,null,{"$f":"Blad1!L10","v":0}]
[{"$nulls":3},{"$f":"Blad1!D11","v":0},null,{"$f":"Blad1!F11","v":0},null,null,{"$f":"Blad1!I11","v":0},null,null,{"$f":"Blad1!L11","v":0}]
[{"$nulls":3},{"$f":"Blad1!D12","v":0},null,{"$f":"Blad1!F12","v":0},null,null,{"$f":"Blad1!I12","v":0},null,null,{"$f":"Blad1!L12","v":0}]
[{"$nulls":3},{"$f":"Blad1!D13","v":0},null,{"$f":"Blad1!F13","v":0},null,null,{"$f":"Blad1!I13","v":0},null,null,{"$f":"Blad1!L13","v":0}]
[{"$nulls":3},{"$f":"Blad1!D14","v":0},null,{"$f":"Blad1!F14","v":0},null,null,{"$f":"Blad1!I14","v":0},null,null,{"$f":"Blad1!L14","v":0}]
[{"$nulls":3},{"$f":"Blad1!D15","v":0},null,{"$f":"Blad1!F15","v":0},null,null,{"$f":"Blad1!I15","v":0},null,null,{"$f":"Blad1!L15","v":0}]
[{"$nulls":3},{"$f":"Blad1!D16","v":0},null,{"$f":"Blad1!F16","v":0},null,null,{"$f":"Blad1!I16","v":0},null,null,{"$f":"Blad1!L16","v":0}]
[null,null,{"$f":"Blad1!C17","v":"uitvoering"},{"$f":"Blad1!D17","v":0},null,{"$f":"Blad1!F17","v":0},null,null,{"$f":"Blad1!I17","v":0},null,null,{"$f":"Blad1!L17","v":0}]
[{"$nulls":3},{"$f":"Blad1!D18","v":0},null,{"$f":"Blad1!F18","v":0},null,null,{"$f":"Blad1!I18","v":0},null,null,{"$f":"Blad1!L18","v":0}]
[{"$nulls":3},{"$f":"Blad1!D19","v":0},null,{"$f":"Blad1!F19","v":0},null,null,{"$f":"Blad1!I19","v":0},null,null,{"$f":"Blad1!L19","v":0}]
[{"$nulls":3},{"$f":"Blad1!D20","v":0},null,{"$f":"Blad1!F20","v":0},null,null,{"$f":"Blad1!I20","v":0},null,null,{"$f":"Blad1!L20","v":0}]
[{"$nulls":3},{"$f":"Blad1!D21","v":0},null,{"$f":"Blad1!F21","v":0},null,null,{"$f":"Blad1!I21","v":0},null,null,{"$f":"Blad1!L21","v":0}]
[{"$nulls":3},{"$f":"Blad1!D22","v":0},null,{"$f":"Blad1!F22","v":0},null,null,{"$f":"Blad1!I22","v":0},null,null,{"$f":"Blad1!L22","v":0}]
[{"$nulls":3},{"$f":"Blad1!D23","v":0},null,{"$f":"Blad1!F23","v":0},null,null,{"$f":"Blad1!I23","v":0},null,null,{"$f":"Blad1!L23","v":0}]
[{"$nulls":3},{"$f":"Blad1!D24","v":0},null,{"$f":"Blad1!F24","v":0},null,null,{"$f":"Blad1!I24","v":0},null,null,{"$f":"Blad1!L24","v":0}]
[{"$nulls":3},{"$f":"Blad1!D25","v":0},null,{"$f":"Blad1!F25","v":0},null,null,{"$f":"Blad1!I25","v":0},null,null,{"$f":"Blad1!L25","v":0}]
[{"$nulls":3},{"$f":"Blad1!D26","v":0},null,{"$f":"Blad1!F26","v":0},null,null,{"$f":"Blad1!I26","v":0},null,null,{"$f":"Blad1!L26","v":0}]
[null,null,{"$f":"Blad1!C27","v":"opruimen/\nevaluatie"},{"$f":"Blad1!D27","v":0},null,{"$f":"Blad1!F27","v":0},null,null,{"$f":"Blad1!I27","v":0},null,null,{"$f":"Blad1!L27","v":0}]
[{"$nulls":3},{"$f":"Blad1!D28","v":0},null,{"$f":"Blad1!F28","v":0},null,null,{"$f":"Blad1!I28","v":0},null,null,{"$f":"Blad1!L28","v":0}]
[{"$nulls":3},{"$f":"Blad1!D29","v":0},null,{"$f":"Blad1!F29","v":0},null,null,{"$f":"Blad1!I29","v":0},null,null,{"$f":"Blad1!L29","v":0}]
[{"$nulls":3},{"$f":"Blad1!D30","v":0},null,{"$f":"Blad1!F30","v":0},null,null,{"$f":"Blad1!I30","v":0},null,null,{"$f":"Blad1!L30","v":0}]
[{"$nulls":3},{"$f":"Blad1!D31","v":0},null,{"$f":"Blad1!F31","v":0},null,null,{"$f":"Blad1!I31","v":0},null,null,{"$f":"Blad1!L31","v":0}]
[{"$nulls":3},{"$f":"Blad1!D32","v":0},null,{"$f":"Blad1!F32","v":0},null,null,{"$f":"Blad1!I32","v":0},null,null,{"$f":"Blad1!L32","v":0}]