{"text_format":"3","workbook":"xlsx","n_sheets":2,"sheets":["formulier","printblad"],"not_rendered":{"macros":1,"defined_names":1},"read":"whole","date_system":"1900"}

{"sheet":"formulier","index":0,"n_rows":20,"n_cols":14,"rows_kept":20,"merged":[[2,2,2,3],[2,4,2,6],[3,2,3,3],[3,4,3,6],[5,2,5,13],[7,2,7,3],[8,2,9,2],[10,2,11,2],[12,2,13,2],[14,2,15,2],[16,2,17,2],[18,2,19,2]]}
[]
[]
[null,null,"Kandidaatnaam:"]
[null,null,"Kandidaatnummer:"]
[]
[null,null,"planning aanleg blotevoetenpad"]
[]
[null,null,"dagdelen",null,"werkzaamheden","Benny","Glenn","Johan","Jos","Julia","Liselot","Lois","Rashid","Victor"]
[null,null,"maandag","ochtend"]
[{"$nulls":3},"middag"]
[null,null,"dinsdag","ochtend"]
[{"$nulls":3},"middag"]
[null,null,"woensdag","ochtend"]
[{"$nulls":3},"middag"]
[null,null,"donderdag","ochtend"]
[{"$nulls":3},"middag"]
[null,null,"vrijdag","ochtend"]
[{"$nulls":3},"middag"]
[null,null,"zaterdag","ochtend"]
[{"$nulls":3},"middag"]

{"sheet":"printblad","index":1,"n_rows":20,"n_cols":14,"rows_kept":20,"merged":[[2,2,2,3],[2,4,2,6],[3,2,3,3],[3,4,3,6],[5,2,5,13],[7,2,7,3],[8,2,9,2],[10,2,11,2],[12,2,13,2],[14,2,15,2],[16,2,17,2],[18,2,19,2]]}
[]
[]
[null,null,{"$f":"formulier!C3","v":"Kandidaatnaam:"},null,{"$f":"formulier!E3","v":0}]
[null,null,{"$f":"formulier!C4","v":"Kandidaatnummer:"},null,{"$f":"formulier!E4","v":0}]
[]
[null,null,{"$f":"formulier!C6","v":"planning aanleg blotevoetenpad"}]
[]
[null,null,{"$f":"formulier!C8","v":"dagdelen"},null,{"$f":"formulier!E8","v":"werkzaamheden"},{"$f":"formulier!F8","v":"Benny"},{"$f":"formulier!G8","v":"Glenn"},{"$f":"formulier!H8","v":"Johan"},{"$f":"formulier!I8","v":"Jos"},{"$f":"formulier!J8","v":"Julia"},{"$f":"formulier!K8","v":"Liselot"},{"$f":"formulier!L8","v":"Lois"},{"$f":"formulier!M8","v":"Rashid"},{"$f":"formulier!N8","v":"Victor"}]
[null,null,{"$f":"formulier!C9","v":"maandag"},{"$f":"formulier!D9","v":"ochtend"},{"$f":"formulier!E9","v":0},{"$f":"formulier!F9","v":0},{"$f":"formulier!G9","v":0},{"$f":"formulier!H9","v":0},{"$f":"formulier!I9","v":0},{"$f":"formulier!J9","v":0},{"$f":"formulier!K9","v":0},{"$f":"formulier!L9","v":0},{"$f":"formulier!M9","v":0},{"$f":"formulier!N9","v":0}]
[{"$nulls":3},{"$f":"formulier!D10","v":"middag"},{"$f":"formulier!E10","v":0},{"$f":"formulier!F10","v":0},{"$f":"formulier!G10","v":0},{"$f":"formulier!H10","v":0},{"$f":"formulier!I10","v":0},{"$f":"formulier!J10","v":0},{"$f":"formulier!K10","v":0},{"$f":"formulier!L10","v":0},{"$f":"formulier!M10","v":0},{"$f":"formulier!N10","v":0}]
[null,null,{"$f":"formulier!C11","v":"dinsdag"},{"$f":"formulier!D11","v":"ochtend"},{"$f":"formulier!E11","v":0},{"$f":"formulier!F11","v":0},{"$f":"formulier!G11","v":0},{"$f":"formulier!H11","v":0},{"$f":"formulier!I11","v":0},{"$f":"formulier!J11","v":0},{"$f":"formulier!K11","v":0},{"$f":"formulier!L11","v":0},{"$f":"formulier!M11","v":0},{"$f":"formulier!N11","v":0}]
[{"$nulls":3},{"$f":"formulier!D12","v":"middag"},{"$f":"formulier!E12","v":0},{"$f":"formulier!F12","v":0},{"$f":"formulier!G12","v":0},{"$f":"formulier!H12","v":0},{"$f":"formulier!I12","v":0},{"$f":"formulier!J12","v":0},{"$f":"formulier!K12","v":0},{"$f":"formulier!L12","v":0},{"$f":"formulier!M12","v":0},{"$f":"formulier!N12","v":0}]
[null,null,{"$f":"formulier!C13","v":"woensdag"},{"$f":"formulier!D13","v":"ochtend"},{"$f":"formulier!E13","v":0},{"$f":"formulier!F13","v":0},{"$f":"formulier!G13","v":0},{"$f":"formulier!H13","v":0},{"$f":"formulier!I13","v":0},{"$f":"formulier!J13","v":0},{"$f":"formulier!K13","v":0},{"$f":"formulier!L13","v":0},{"$f":"formulier!M13","v":0},{"$f":"formulier!N13","v":0}]
[{"$nulls":3},{"$f":"formulier!D14","v":"middag"},{"$f":"formulier!E14","v":0},{"$f":"formulier!F14","v":0},{"$f":"formulier!G14","v":0},{"$f":"formulier!H14","v":0},{"$f":"formulier!I14","v":0},{"$f":"formulier!J14","v":0},{"$f":"formulier!K14","v":0},{"$f":"formulier!L14","v":0},{"$f":"formulier!M14","v":0},{"$f":"formulier!N14","v":0}]
[null,null,{"$f":"formulier!C15","v":"donderdag"},{"$f":"formulier!D15","v":"ochtend"},{"$f":"formulier!E15","v":0},{"$f":"formulier!F15","v":0},{"$f":"formulier!G15","v":0},{"$f":"formulier!H15","v":0},{"$f":"formulier!I15","v":0},{"$f":"formulier!J15","v":0},{"$f":"formulier!K15","v":0},{"$f":"formulier!L15","v":0},{"$f":"formulier!M15","v":0},{"$f":"formulier!N15","v":0}]
[{"$nulls":3},{"$f":"formulier!D16","v":"middag"},{"$f":"formulier!E16","v":0},{"$f":"formulier!F16","v":0},{"$f":"formulier!G16","v":0},{"$f":"formulier!H16","v":0},{"$f":"formulier!I16","v":0},{"$f":"formulier!J16","v":0},{"$f":"formulier!K16","v":0},{"$f":"formulier!L16","v":0},{"$f":"formulier!M16","v":0},{"$f":"formulier!N16","v":0}]
[null,null,{"$f":"formulier!C17","v":"vrijdag"},{"$f":"formulier!D17","v":"ochtend"},{"$f":"formulier!E17","v":0},{"$f":"formulier!F17","v":0},{"$f":"formulier!G17","v":0},{"$f":"formulier!H17","v":0},{"$f":"formulier!I17","v":0},{"$f":"formulier!J17","v":0},{"$f":"formulier!K17","v":0},{"$f":"formulier!L17","v":0},{"$f":"formulier!M17","v":0},{"$f":"formulier!N17","v":0}]
[{"$nulls":3},{"$f":"formulier!D18","v":"middag"},{"$f":"formulier!E18","v":0},{"$f":"formulier!F18","v":0},{"$f":"formulier!G18","v":0},{"$f":"formulier!H18","v":0},{"$f":"formulier!I18","v":0},{"$f":"formulier!J18","v":0},{"$f":"formulier!K18","v":0},{"$f":"formulier!L18","v":0},{"$f":"formulier!M18","v":0},{"$f":"formulier!N18","v":0}]
[null,null,{"$f":"formulier!C19","v":"zaterdag"},{"$f":"formulier!D19","v":"ochtend"},{"$f":"formulier!E19","v":0},{"$f":"formulier!F19","v":0},{"$f":"formulier!G19","v":0},{"$f":"formulier!H19","v":0},{"$f":"formulier!I19","v":0},{"$f":"formulier!J19","v":0},{"$f":"formulier!K19","v":0},{"$f":"formulier!L19","v":0},{"$f":"formulier!M19","v":0},{"$f":"formulier!N19","v":0}]
[{"$nulls":3},{"$f":"formulier!D20","v":"middag"},{"$f":"formulier!E20","v":0},{"$f":"formulier!F20","v":0},{"$f":"formulier!G20","v":0},{"$f":"formulier!H20","v":0},{"$f":"formulier!I20","v":0},{"$f":"formulier!J20","v":0},{"$f":"formulier!K20","v":0},{"$f":"formulier!L20","v":0},{"$f":"formulier!M20","v":0},{"$f":"formulier!N20","v":0}]