{"text_format":"3","workbook":"xlsx","n_sheets":15,"sheets":["home","navibloemen","naviplanten","navibloemisterijartikelen","bloemen","planten","bloemisterijartikelen","artbloemen","artplanten","artbloemisterijartikelen","winkelwagen","data","databloemen","dataplanten","databloemisterijartikelen"],"not_rendered":{"images":71,"macros":1,"defined_names":24},"read":"whole","date_system":"1900"}

{"sheet":"home","index":0,"n_rows":23,"n_cols":10,"rows_kept":23,"merged":[[1,4,1,10],[3,5,7,9]]}
[]
[{"$nulls":4},{"$f":"naam & \" - \" & nummer","v":" - "}]
[null,"è",{"$f":"HYPERLINK(\"\",\"home\")","v":"home"}]
[null,null,{"$f":"HYPERLINK(\"\",\"bloemen, snijgroen en overig\")","v":"bloemen, snijgroen en overig"},null,null,"Welkom op de site van Botanica, dé inkoopservice voor de bloemist. In onze webshop heeft u de beschikking over een groot assortiment snijbloemen, planten en bloemisterijartikelen."]
[null,null,{"$f":"HYPERLINK(\"\",\"planten\")","v":"planten"}]
[null,null,{"$f":"HYPERLINK(\"\",\"bloemisterijartikelen\")","v":"bloemisterijartikelen"}]
[]
[null,null,{"$f":"HYPERLINK(\"\",\"winkelwagen\")","v":"winkelwagen"}]
{"$rows_empty":14}
[{"$nulls":5},{"$f":"HYPERLINK(\"\",\"bloemen, snijgroen en overig\")","v":"bloemen, snijgroen en overig"},null,{"$f":"HYPERLINK(\"\",\"planten\")","v":"planten"},null,{"$f":"HYPERLINK(\"\",\"bloemisterijartikelen\")","v":"bloemisterijartikelen"}]

{"sheet":"navibloemen","index":1,"n_rows":23,"n_cols":8,"rows_kept":23,"merged":[[1,4,1,10],[3,5,7,9]]}
[]
[{"$nulls":4},{"$f":"naam & \" - \" & nummer","v":" - "}]
[null,null,{"$f":"HYPERLINK(\"\",\"home\")","v":"home"}]
[null,"è",{"$f":"HYPERLINK(\"\",\"bloemen, snijgroen en overig\")","v":"bloemen, snijgroen en overig"},null,null,"Bloemen, snijgroen en overig"]
[null,null,{"$f":"HYPERLINK(\"\",\"    bloemen\")","v":"    bloemen"}]
[null,null,{"$f":"HYPERLINK(\"\",\"    snijgroen\")","v":"    snijgroen"}]
[null,null,{"$f":"HYPERLINK(\"\",\"planten\")","v":"planten"}]
[null,null,{"$f":"HYPERLINK(\"\",\"bloemisterijartikelen\")","v":"bloemisterijartikelen"}]
[]
[null,null,{"$f":"HYPERLINK(\"\",\"winkelwagen\")","v":"winkelwagen"}]
{"$rows_empty":12}
[{"$nulls":5},{"$f":"HYPERLINK(\"\",\"bloemen\")","v":"bloemen"},null,{"$f":"HYPERLINK(\"\",\"snijgroen\")","v":"snijgroen"}]

{"sheet":"naviplanten","index":2,"n_rows":38,"n_cols":10,"rows_kept":38,"merged":[[1,4,1,10],[3,5,7,9]]}
[]
[{"$nulls":4},{"$f":"naam & \" - \" & nummer","v":" - "}]
[null,null,{"$f":"HYPERLINK(\"\",\"home\")","v":"home"}]
[null,null,{"$f":"HYPERLINK(\"\",\"bloemen, snijgroen en overig\")","v":"bloemen, snijgroen en overig"},null,null,"Planten"]
[null,"è",{"$f":"HYPERLINK(\"\",\"planten\")","v":"planten"}]
[null,null,{"$f":"HYPERLINK(\"\",\"    bladplanten\")","v":"    bladplanten"}]
[null,null,{"$f":"HYPERLINK(\"\",\"    bloeiende planten\")","v":"    bloeiende planten"}]
[null,null,{"$f":"HYPERLINK(\"\",\"    cactussen/succulenten\")","v":"    cactussen/succulenten"}]
[null,null,{"$f":"HYPERLINK(\"\",\"    perkplanten\")","v":"    perkplanten"}]
[null,null,{"$f":"HYPERLINK(\"\",\"bloemisterijartikelen\")","v":"bloemisterijartikelen"}]
[]
[null,null,{"$f":"HYPERLINK(\"\",\"winkelwagen\")","v":"winkelwagen"}]
{"$rows_empty":10}
[{"$nulls":5},{"$f":"HYPERLINK(\"\",\"bladplanten\")","v":"bladplanten"},null,{"$f":"HYPERLINK(\"\",\"bloeiende planten\")","v":"bloeiende planten"},null,{"$f":"HYPERLINK(\"\",\"cactussen/succulenten\")","v":"cactussen/succulenten"}]
{"$rows_empty":14}
[{"$nulls":7},{"$f":"HYPERLINK(\"\",\"perkplanten\")","v":"perkplanten"}]

{"sheet":"navibloemisterijartikelen","index":3,"n_rows":38,"n_cols":10,"rows_kept":38,"merged":[[1,4,1,10],[3,5,7,9]]}
[]
[{"$nulls":4},{"$f":"naam & \" - \" & nummer","v":" - "}]
[null,null,{"$f":"HYPERLINK(\"\",\"home\")","v":"home"}]
[null,null,{"$f":"HYPERLINK(\"\",\"bloemen, snijgroen en overig\")","v":"bloemen, snijgroen en overig"},null,null,"Bloemisterijartikelen"]
[null,null,{"$f":"HYPERLINK(\"\",\"planten\")","v":"planten"}]
[null,"è",{"$f":"HYPERLINK(\"\",\"bloemisterijartikelen\")","v":"bloemisterijartikelen"}]
[null,null,{"$f":"HYPERLINK(\"\",\"    decoratie\")","v":"    decoratie"}]
[null,null,{"$f":"HYPERLINK(\"\",\"    hulpmiddelen\")","v":"    hulpmiddelen"}]
[null,null,{"$f":"HYPERLINK(\"\",\"    kransen\")","v":"    kransen"}]
[null,null,{"$f":"HYPERLINK(\"\",\"    pot, vaas, schaal\")","v":"    pot, vaas, schaal"}]
[]
[null,null,{"$f":"HYPERLINK(\"\",\"winkelwagen\")","v":"winkelwagen"}]
{"$rows_empty":10}
[{"$nulls":5},{"$f":"HYPERLINK(\"\",\"decoratie\")","v":"decoratie"},null,{"$f":"HYPERLINK(\"\",\"hulpmiddelen\")","v":"hulpmiddelen"},null,{"$f":"HYPERLINK(\"\",\"kransen\")","v":"kransen"}]
{"$rows_empty":14}
[{"$nulls":7},{"$f":"HYPERLINK(\"\",\"pot, vaas, schaal\")","v":"pot, vaas, schaal"}]

{"sheet":"bloemen","index":4,"n_rows":35,"n_cols":10,"rows_kept":35,"merged":[[1,4,1,10],[2,4,5,10]]}
[]
[{"$nulls":4},{"$f":"naam & \" - \" & nummer","v":" - "}]
[null,null,{"$f":"HYPERLINK(\"\",\"home\")","v":"home"},null,"Bloemen"]
[null,null,{"$f":"HYPERLINK(\"\",\"bloemen, snijgroen en overig\")","v":"bloemen, snijgroen en overig"}]
[null,null,{"$f":"HYPERLINK(\"\",\"    bloemen\")","v":"    bloemen"}]
[null,"è",{"$f":"HYPERLINK(\"\",\"    snijgroen\")","v":"    snijgroen"}]
[null,null,{"$f":"HYPERLINK(\"\",\"planten\")","v":"planten"}]
[null,null,{"$f":"HYPERLINK(\"\",\"bloemisterijartikelen\")","v":"bloemisterijartikelen"}]
[]
[null,null,{"$f":"HYPERLINK(\"\",\"winkelwagen\")","v":"winkelwagen"}]
{"$rows_empty":9}
[{"$nulls":5},{"$f":"HYPERLINK(\"\",\"Aspidstra\")","v":"Aspidstra"},null,{"$f":"HYPERLINK(\"\",\"Conifeer\")","v":"Conifeer"},null,{"$f":"HYPERLINK(\"\",\"Eucalyptus\")","v":"Eucalyptus"}]
{"$rows_empty":14}
[{"$nulls":5},{"$f":"HYPERLINK(\"\",\"Fatsia\")","v":"Fatsia"},null,{"$f":"HYPERLINK(\"\",\"Salal\")","v":"Salal"},null,{"$f":"HYPERLINK(\"\",\"Salix\")","v":"Salix"}]

{"sheet":"planten","index":5,"n_rows":35,"n_cols":10,"rows_kept":35,"merged":[[1,4,1,10],[2,4,5,10]]}
[]
[{"$nulls":4},{"$f":"naam & \" - \" & nummer","v":" - "}]
[null,null,{"$f":"HYPERLINK(\"\",\"home\")","v":"home"},null,"Planten"]
[null,null,{"$f":"HYPERLINK(\"\",\"bloemen, snijgroen en overig\")","v":"bloemen, snijgroen en overig"}]
[null,null,{"$f":"HYPERLINK(\"\",\"planten\")","v":"planten"}]
[null,null,{"$f":"HYPERLINK(\"\",\"    bladplanten\")","v":"    bladplanten"}]
[null,null,{"$f":"HYPERLINK(\"\",\"    bloeiende planten\")","v":"    bloeiende planten"}]
[null,null,{"$f":"HYPERLINK(\"\",\"    cactussen/succulenten\")","v":"    cactussen/succulenten"}]
[null,"è",{"$f":"HYPERLINK(\"\",\"    perkplanten\")","v":"    perkplanten"}]
[null,null,{"$f":"HYPERLINK(\"\",\"bloemisterijartikelen\")","v":"bloemisterijartikelen"}]
[]
[null,null,{"$f":"HYPERLINK(\"\",\"winkelwagen\")","v":"winkelwagen"}]
{"$rows_empty":7}
[{"$nulls":5},{"$f":"HYPERLINK(\"\",\"Begonia \")","v":"Begonia "},null,{"$f":"HYPERLINK(\"\",\"Impatiens\")","v":"Impatiens"},null,{"$f":"HYPERLINK(\"\",\"Lobelia\")","v":"Lobelia"}]
{"$rows_empty":14}
[{"$nulls":5},{"$f":"HYPERLINK(\"\",\"Lobularia\")","v":"Lobularia"},null,{"$f":"HYPERLINK(\"\",\"Tagetes\")","v":"Tagetes"},null,{"$f":"HYPERLINK(\"\",\"Verbena\")","v":"Verbena"}]

{"sheet":"bloemisterijartikelen","index":6,"n_rows":35,"n_cols":10,"rows_kept":35,"merged":[[1,4,1,10],[2,4,5,10]]}
[]
[{"$nulls":4},{"$f":"naam & \" - \" & nummer","v":" - "}]
[null,null,{"$f":"HYPERLINK(\"\",\"home\")","v":"home"},null,"Bloemisterijartikelen"]
[null,null,{"$f":"HYPERLINK(\"\",\"bloemen, snijgroen en overig\")","v":"bloemen, snijgroen en overig"}]
[null,null,{"$f":"HYPERLINK(\"\",\"planten\")","v":"planten"}]
[null,null,{"$f":"HYPERLINK(\"\",\"bloemisterijartikelen\")","v":"bloemisterijartikelen"}]
[null,null,{"$f":"HYPERLINK(\"\",\"    decoratie\")","v":"    decoratie"}]
[null,"è",{"$f":"HYPERLINK(\"\",\"    hulpmiddelen\")","v":"    hulpmiddelen"}]
[null,null,{"$f":"HYPERLINK(\"\",\"    kransen\")","v":"    kransen"}]
[null,null,{"$f":"HYPERLINK(\"\",\"    pot, vaas, schaal\")","v":"    pot, vaas, schaal"}]
[]
[null,null,{"$f":"HYPERLINK(\"\",\"winkelwagen\")","v":"winkelwagen"}]
{"$rows_empty":7}
[{"$nulls":5},{"$f":"HYPERLINK(\"\",\"bindtouw klos\")","v":"bindtouw klos"},null,{"$f":"HYPERLINK(\"\",\"bloemenband 25 mm\")","v":"bloemenband 25 mm"},null,{"$f":"HYPERLINK(\"\",\"elastiek \")","v":"elastiek "}]
{"$rows_empty":14}
[{"$nulls":5},{"$f":"HYPERLINK(\"\",\"raffia \")","v":"raffia "},null,{"$f":"HYPERLINK(\"\",\"rustic wire\")","v":"rustic wire"},null,{"$f":"HYPERLINK(\"\",\"wikkeldraad \")","v":"wikkeldraad "}]

{"sheet":"artbloemen","index":7,"n_rows":16,"n_cols":8,"rows_kept":16,"merged":[[1,4,1,8],[3,5,4,7],[5,5,18,5],[5,6,6,6],[5,7,6,7],[7,6,8,6],[7,7,8,7],[9,6,10,6],[9,7,10,7],[11,6,12,6],[11,7,12,7],[13,6,14,6],[13,7,14,7],[15,6,16,6],[15,7,16,7]]}
[]
[{"$nulls":4},{"$f":"naam & \" - \" & nummer","v":" - "}]
[null,null,{"$f":"HYPERLINK(\"\",\"home\")","v":"home"}]
[null,null,{"$f":"HYPERLINK(\"\",\"bloemen, snijgroen en overig\")","v":"bloemen, snijgroen en overig"},null,null,{"$f":"geselecteerd","v":"bindtouw klos"}]
[null,null,{"$f":"HYPERLINK(\"\",\"    bloemen\")","v":"    bloemen"}]
[null,null,{"$f":"HYPERLINK(\"\",\"    snijgroen\")","v":"    snijgroen"},{"$nulls":3},"aantal per bos:",{"$f":"inhoudvisueel","v":"500 gr"}]
[null,"è","        Salal"]
[null,null,{"$f":"HYPERLINK(\"\",\"planten\")","v":"planten"},{"$nulls":3},"kleur:",{"$f":"INDEX(OFFSET(databloemen!C:C,0,4),rij)","v":"groen"}]
[null,null,{"$f":"HYPERLINK(\"\",\"bloemisterijartikelen\")","v":"bloemisterijartikelen"}]
[{"$nulls":6},"steellengte:",{"$f":"INDEX(OFFSET(databloemen!C:C,0,5),rij)","v":"n.v.t."}]
[null,null,{"$f":"HYPERLINK(\"\",\"winkelwagen\")","v":"winkelwagen"}]
[{"$nulls":6},"fustcode:",{"$f":"INDEX(OFFSET(databloemen!C:C,0,6),rij)","v":999}]
[]
[{"$nulls":6},"prijs per stuk:",{"$f":"prijs","v":{"v":2.25,"d":"€ 2.25"}}]
[]
[{"$nulls":6},"aantal bossen:"]

{"sheet":"artplanten","index":8,"n_rows":16,"n_cols":8,"rows_kept":16,"merged":[[1,4,1,8],[3,5,4,7],[5,5,17,5],[5,6,6,6],[5,7,6,7],[7,6,8,6],[7,7,8,7],[9,6,10,6],[9,7,10,7],[11,6,12,6],[11,7,12,7],[13,6,14,6],[13,7,14,7],[15,6,16,6],[15,7,16,7]]}
[]
[{"$nulls":4},{"$f":"naam & \" - \" & nummer","v":" - "}]
[null,null,{"$f":"HYPERLINK(\"\",\"home\")","v":"home"}]
[null,null,{"$f":"HYPERLINK(\"\",\"bloemen, snijgroen en overig\")","v":"bloemen, snijgroen en overig"},null,null,{"$f":"geselecteerd","v":"bindtouw klos"}]
[null,null,{"$f":"HYPERLINK(\"\",\"planten\")","v":"planten"}]
[null,null,{"$f":"HYPERLINK(\"\",\"    bladplanten\")","v":"    bladplanten"},{"$nulls":3},"inhoud fust:",{"$f":"inhoudvisueel","v":"500 gr"}]
[null,null,{"$f":"HYPERLINK(\"\",\"    bloeiende planten\")","v":"    bloeiende planten"}]
[null,null,{"$f":"HYPERLINK(\"\",\"    cactussen/succulenten\")","v":"    cactussen/succulenten"},{"$nulls":3},"potmaat:",{"$f":"INDEX(OFFSET(dataplanten!C:C,0,5),rij)","v":15}]
[null,null,{"$f":"HYPERLINK(\"\",\"    perkplanten\")","v":"    perkplanten"}]
[null,"è","        Tagetes",{"$nulls":3},"kleur:",{"$f":"INDEX(OFFSET(dataplanten!C:C,0,4),rij)","v":"groen"}]
[null,null,{"$f":"HYPERLINK(\"\",\"bloemisterijartikelen\")","v":"bloemisterijartikelen"}]
[{"$nulls":6},"fustcode:",{"$f":"INDEX(OFFSET(dataplanten!C:C,0,6),rij)","v":403}]
[null,null,{"$f":"HYPERLINK(\"\",\"winkelwagen\")","v":"winkelwagen"}]
[{"$nulls":6},"prijs per stuk:",{"$f":"prijs","v":{"v":2.25,"d":"€ 2.25"}}]
[]
[{"$nulls":6},"aantal fusten:"]

{"sheet":"artbloemisterijartikelen","index":9,"n_rows":14,"n_cols":8,"rows_kept":14,"merged":[[1,4,1,8],[3,5,4,7],[5,5,18,5],[5,6,7,6],[5,7,7,7],[8,6,10,6],[8,7,10,7],[11,6,12,6],[11,7,12,7],[13,6,15,6],[13,7,15,7]]}
[]
[{"$nulls":4},{"$f":"naam & \" - \" & nummer","v":" - "}]
[null,null,{"$f":"HYPERLINK(\"\",\"home\")","v":"home"}]
[null,null,{"$f":"HYPERLINK(\"\",\"bloemen, snijgroen en overig\")","v":"bloemen, snijgroen en overig"},null,null,{"$f":"geselecteerd","v":"bindtouw klos"}]
[null,null,{"$f":"HYPERLINK(\"\",\"planten\")","v":"planten"}]
[null,null,{"$f":"HYPERLINK(\"\",\"bloemisterijartikelen\")","v":"bloemisterijartikelen"},{"$nulls":3},"inhoud:",{"$f":"inhoudvisueel","v":"500 gr"}]
[null,null,{"$f":"HYPERLINK(\"\",\"    decoratie\")","v":"    decoratie"}]
[null,null,{"$f":"HYPERLINK(\"\",\"    hulpmiddelen\")","v":"    hulpmiddelen"}]
[null,"è","        bindtouw klos",{"$nulls":3},"besteleenheid:",{"$f":"besteleenheid &  \" stuks\"","v":"4 stuks"}]
[null,null,{"$f":"HYPERLINK(\"\",\"    kransen\")","v":"    kransen"}]
[null,null,{"$f":"HYPERLINK(\"\",\"    pot, vaas, schaal\")","v":"    pot, vaas, schaal"}]
[{"$nulls":6},"prijs per stuk:",{"$f":"prijs","v":{"v":2.25,"d":"€ 2.25"}}]
[null,null,{"$f":"HYPERLINK(\"\",\"winkelwagen\")","v":"winkelwagen"}]
[{"$nulls":6},"aantal besteleenheden:"]

{"sheet":"winkelwagen","index":10,"n_rows":23,"n_cols":11,"rows_kept":23,"merged":[[1,4,1,11],[2,4,4,11],[6,5,7,5],[6,6,7,6],[6,7,7,7],[6,8,7,8],[6,9,7,9],[6,10,7,10],[8,11,9,11],[9,9,10,9],[9,10,10,10],[10,11,11,11],[12,9,13,9],[12,10,13,10],[12,11,13,11],[14,9,15,9],[14,10,15,10],[14,11,15,11],[16,9,17,9],[16,10,17,10],[16,11,17,11],[19,9,20,9],[19,10,20,10]]}
[]
[{"$nulls":4},{"$f":"naam & \" - \" & nummer","v":" - "}]
[null,null,{"$f":"HYPERLINK(\"\",\"home\")","v":"home"},null,"Winkelwagen"]
[null,null,{"$f":"HYPERLINK(\"\",\"bloemen, snijgroen en overig\")","v":"bloemen, snijgroen en overig"}]
[null,null,{"$f":"HYPERLINK(\"\",\"planten\")","v":"planten"}]
[null,null,{"$f":"HYPERLINK(\"\",\"bloemisterijartikelen\")","v":"bloemisterijartikelen"}]
[{"$nulls":5},"artikel","inhoud","besteleenheid","aantal","prijs per stuk","totaal"]
[null,"è",{"$f":"HYPERLINK(\"\",\"winkelwagen\")","v":"winkelwagen"}]
[]
[{"$nulls":9},"totaal:",{"$f":"SUM(K7:K9)","v":0}]
[]
[]
[{"$nulls":9},"btw 6%:",{"$f":"btw6procent","v":0}]
[]
[{"$nulls":9},"btw 21%:",{"$f":"btw21procent","v":0}]
[]
[{"$nulls":9},"fust:",{"$f":"fust","v":0}]
[]
[]
[{"$nulls":9},"totaal:",{"$f":"SUM(K10,K13,K15,K17)","v":0}]
[]
[]
[{"$nulls":10},"betaalwijze: op rekening"]

{"sheet":"data","index":11,"n_rows":18,"n_cols":22,"rows_kept":18,"hidden":true,"merged":[[0,15,1,15],[0,16,1,16],[0,17,1,17],[0,18,1,18],[0,19,1,19],[0,20,1,20],[0,21,1,21],[0,22,1,22]]}
["Geselecteerd:","bindtouw klos",{"$nulls":19},{"$f":"R1*IF(S1=\"\",1,S1)*T1*U1","v":0}]
["Categorie:","bloemisterijartikelen"]
["Subcategorie:",{"$f":"INDEX(INDIRECT(\"data\"&categorie&\"!C:C\"),rij)","v":"hulpmiddelen"}]
["Rij:",{"$f":"MATCH(geselecteerd,INDIRECT(\"data\"&categorie&\"!B:B\"),0)","v":3}]
["Winkelwagennaam:",{"$f":"geselecteerd & \" (\" & inhoudvisueel & \")\"","v":"bindtouw klos (500 gr)"}]
["Inhoud:",{"$f":"IF(INDEX(INDIRECT(\"data\"&categorie&\"!E:E\"),rij)<>\"stuks\",1,INDEX(INDIRECT(\"data\"&categorie&\"!D:D\"),rij))","v":1}]
["Inhoud visueel:",{"$f":"INDEX(INDIRECT(\"data\"&categorie&\"!D:D\"),rij) & \" \" & INDEX(INDIRECT(\"data\"&categorie&\"!E:E\"),rij)","v":"500 gr"}]
["Besteleenheid:",{"$f":"IF(categorie=\"bloemisterijartikelen\",INDEX(INDIRECT(\"data\"&categorie&\"!G:G\"),rij),\"\")","v":4}]
["Aantal:",{"$f":"INDIRECT(\"art\" & categorie & \"!aantal\")","v":0}]
["Prijs:",{"$f":"INDEX(INDIRECT(\"data\"&categorie&\"!K:K\"),rij)","v":2.25}]
["Bestaande aantal:",{"$f":"INDEX(INDIRECT(\"data\"&categorie&\"!A:A\"),rij)","v":""}]
[]
["BTW 6%:",{"$f":"SUMPRODUCT(databloemen!A:A,databloemen!D:D,databloemen!K:K,databloemen!L:L)+SUMPRODUCT(dataplanten!A:A,dataplanten!D:D,dataplanten!K:K,dataplanten!L:L)","v":0}]
["BTW 21%:",{"$f":"SUMPRODUCT(databloemisterijartikelen!A:A,IF(databloemisterijartikelen!E:E=\"stuks\",databloemisterijartikelen!D:D,1),databloemisterijartikelen!G:G,databloemisterijartikelen!K:K,databloemisterijartikelen!L:L)","v":0}]
["Fust:",{"$f":"SUMPRODUCT(databloemen!A:A,databloemen!J:J)+SUMPRODUCT(dataplanten!A:A,dataplanten!J:J)","v":0}]
[]
["Kandidaatnaam:"]
["Kandidaatnummer:"]

{"sheet":"databloemen","index":12,"n_rows":13,"n_cols":14,"rows_kept":13,"hidden":true}
["aantal","naam","categorie","inhoud ","inhoud eenheid","voorraad (niet meer gebruikt)","kleur","steellengte","fustcode","prijs fust","prijs","btw","plaatnaam","afbeelding"]
[{"$f":"IFERROR(INDEX(winkelwagen!I:I,MATCH(B2 & \" (\" & D2 & \" \" & E2 & \")\",winkelwagen!F:F,0)),\"\")","v":""},"Alstroemeria","bloemen",60,"stuks",null,"brons",80,577,{"v":4,"d":"€ 4.00"},{"v":0.36,"d":"€ 0.36"},0.06,"Alstroemeria","shutterstock_481455946"]
[{"$f":"IFERROR(INDEX(winkelwagen!I:I,MATCH(B3 & \" (\" & D3 & \" \" & E3 & \")\",winkelwagen!F:F,0)),\"\")","v":""},"Aspidstra","snijgroen",100,"stuks",null,"groen","n.v.t.",999,0,{"v":0.1,"d":"€ 0.10"},0.06,"Aspidstra","shutterstock_727908424"]
[{"$f":"IFERROR(INDEX(winkelwagen!I:I,MATCH(B4 & \" (\" & D4 & \" \" & E4 & \")\",winkelwagen!F:F,0)),\"\")","v":""},"Chysanthemum","bloemen",75,"stuks",null,"groen",55,544,{"v":4,"d":"€ 4.00"},{"v":0.24,"d":"€ 0.24"},0.06,"Chysanthemum","shutterstock_512972047"]
[{"$f":"IFERROR(INDEX(winkelwagen!I:I,MATCH(B5 & \" (\" & D5 & \" \" & E5 & \")\",winkelwagen!F:F,0)),\"\")","v":""},"Conifeer","snijgroen",5,"stuks",null,"groen",50,566,{"v":4,"d":"€ 4.00"},{"v":1.85,"d":"€ 1.85"},0.06,"Conifeer","shutterstock_736144063"]
[{"$f":"IFERROR(INDEX(winkelwagen!I:I,MATCH(B6 & \" (\" & D6 & \" \" & E6 & \")\",winkelwagen!F:F,0)),\"\")","v":""},"Eucalyptus","snijgroen",10,"stuks",null,"grijs",70,566,{"v":4,"d":"€ 4.00"},{"v":2.15,"d":"€ 2.15"},0.06,"Eucalyptus","shutterstock_166285226"]
[{"$f":"IFERROR(INDEX(winkelwagen!I:I,MATCH(B7 & \" (\" & D7 & \" \" & E7 & \")\",winkelwagen!F:F,0)),\"\")","v":""},"Fatsia","snijgroen",150,"stuks",null,"groen",40,999,0,{"v":0.15,"d":"€ 0.15"},0.06,"Fatsia","shutterstock_346807439"]
[{"$f":"IFERROR(INDEX(winkelwagen!I:I,MATCH(B8 & \" (\" & D8 & \" \" & E8 & \")\",winkelwagen!F:F,0)),\"\")","v":""},"Freesia","bloemen",100,"stuks",null,"wit",50,566,{"v":4,"d":"€ 4.00"},{"v":0.23,"d":"€ 0.23"},0.06,"Freesia","shutterstock_678982522"]
[{"$f":"IFERROR(INDEX(winkelwagen!I:I,MATCH(B9 & \" (\" & D9 & \" \" & E9 & \")\",winkelwagen!F:F,0)),\"\")","v":""},"Gerbera","bloemen",40,"stuks",null,"gemengd",45,996,{"v":7,"d":"€ 7.00"},{"v":0.33,"d":"€ 0.33"},0.06,"Gerbera","shutterstock_611964899"]
[{"$f":"IFERROR(INDEX(winkelwagen!I:I,MATCH(B10 & \" (\" & D10 & \" \" & E10 & \")\",winkelwagen!F:F,0)),\"\")","v":""},"Lilium","bloemen",50,"stuks",null,"wit",90,997,{"v":7,"d":"€ 7.00"},{"v":0.77,"d":"€ 0.77"},0.06,"Lilium","shutterstock_762403792"]
[{"$f":"IFERROR(INDEX(winkelwagen!I:I,MATCH(B11 & \" (\" & D11 & \" \" & E11 & \")\",winkelwagen!F:F,0)),\"\")","v":""},"Rosa","bloemen",40,"stuks",null,"rose",50,577,{"v":4,"d":"€ 4.00"},{"v":0.25,"d":"€ 0.25"},0.06,"Rosa","shutterstock_55811335"]
[{"$f":"IFERROR(INDEX(winkelwagen!I:I,MATCH(B12 & \" (\" & D12 & \" \" & E12 & \")\",winkelwagen!F:F,0)),\"\")","v":""},"Salal","snijgroen",25,"stuks",null,"groen",45,999,0,{"v":2.25,"d":"€ 2.25"},0.06,"Salal","shutterstock_407900437"]
[{"$f":"IFERROR(INDEX(winkelwagen!I:I,MATCH(B13 & \" (\" & D13 & \" \" & E13 & \")\",winkelwagen!F:F,0)),\"\")","v":""},"Salix","snijgroen",5,"stuks",null,"bruin",50,566,{"v":4,"d":"€ 4.00"},{"v":0.75,"d":"€ 0.75"},0.06,"Salix","wilgentakken"]

{"sheet":"dataplanten","index":13,"n_rows":26,"n_cols":14,"rows_kept":26,"hidden":true}
["aantal","naam","categorie","inhoud ","inhoud eenheid","voorraad (niet meer gebruikt)","kleur","potmaat","fustcode","prijs fust","prijs","btw","plaatnaam","afbeelding"]
[{"$f":"IFERROR(INDEX(winkelwagen!I:I,MATCH(B2 & \" (\" & D2 & \" \" & E2 & \")\",winkelwagen!F:F,0)),\"\")","v":""},"Aglaonema","bladplanten",4,"stuks",null,"wit/groen",17,404,{"v":0.31,"d":"€ 0.31"},{"v":7.16,"d":"€ 7.16"},0.06,"Aglaonema","shutterstock_115667032"]
[{"$f":"IFERROR(INDEX(winkelwagen!I:I,MATCH(B3 & \" (\" & D3 & \" \" & E3 & \")\",winkelwagen!F:F,0)),\"\")","v":""},"Aloe","cactussen/succulenten",3,"stuks",null,"groen",15,403,{"v":0.31,"d":"€ 0.31"},{"v":4.92,"d":"€ 4.92"},0.06,"Aloe","shutterstock_321021023"]
[{"$f":"IFERROR(INDEX(winkelwagen!I:I,MATCH(B4 & \" (\" & D4 & \" \" & E4 & \")\",winkelwagen!F:F,0)),\"\")","v":""},"Anthurium","bloeiende planten",10,"stuks",null,"rood",12,495,{"v":0.35,"d":"€ 0.35"},{"v":3.3,"d":"€ 3.30"},0.06,"Anthurium","shutterstock_89440570"]
[{"$f":"IFERROR(INDEX(winkelwagen!I:I,MATCH(B5 & \" (\" & D5 & \" \" & E5 & \")\",winkelwagen!F:F,0)),\"\")","v":""},"Beaucarnea","bladplanten",3,"stuks",null,"groen",19,955,{"v":0.27,"d":"€ 0.27"},{"v":10.05,"d":"€ 10.05"},0.06,"Beaucarnea","shutterstock_319380593"]
[{"$f":"IFERROR(INDEX(winkelwagen!I:I,MATCH(B6 & \" (\" & D6 & \" \" & E6 & \")\",winkelwagen!F:F,0)),\"\")","v":""},"Begonia","bloeiende planten",8,"stuks",null,"rood",12,814,{"v":0.44,"d":"€ 0.44"},{"v":1.27,"d":"€ 1.27"},0.06,"Begonia","shutterstock_60670180"]
[{"$f":"IFERROR(INDEX(winkelwagen!I:I,MATCH(B7 & \" (\" & D7 & \" \" & E7 & \")\",winkelwagen!F:F,0)),\"\")","v":""},"Begonia ","perkplanten",12,"stuks",null,"rose",9,418,{"v":0.29,"d":"€ 0.29"},{"v":0.19,"d":"€ 0.19"},0.06,"Begonia2","shutterstock_636142310"]
[{"$f":"IFERROR(INDEX(winkelwagen!I:I,MATCH(B8 & \" (\" & D8 & \" \" & E8 & \")\",winkelwagen!F:F,0)),\"\")","v":""},"Cereus","cactussen/succulenten",6,"stuks",null,"groen",12,206,{"v":0.22,"d":"€ 0.22"},{"v":3.3,"d":"€ 3.30"},0.06,"Cereus","shutterstock_698924086"]
[{"$f":"IFERROR(INDEX(winkelwagen!I:I,MATCH(B9 & \" (\" & D9 & \" \" & E9 & \")\",winkelwagen!F:F,0)),\"\")","v":""},"Chamaedorea","bladplanten",6,"stuks",null,"groen",17,306,{"v":0.34,"d":"€ 0.34"},{"v":2.09,"d":"€ 2.09"},0.06,"Chamaedorea","shutterstock_56817667"]
[{"$f":"IFERROR(INDEX(winkelwagen!I:I,MATCH(B10 & \" (\" & D10 & \" \" & E10 & \")\",winkelwagen!F:F,0)),\"\")","v":""},"Crassula","cactussen/succulenten",4,"stuks",null,"groen",17,404,{"v":0.31,"d":"€ 0.31"},{"v":4.92,"d":"€ 4.92"},0.06,"Crassula","shutterstock_747178597"]
[{"$f":"IFERROR(INDEX(winkelwagen!I:I,MATCH(B11 & \" (\" & D11 & \" \" & E11 & \")\",winkelwagen!F:F,0)),\"\")","v":""},"Cyclamen","bloeiende planten",8,"stuks",null,"roze",510,495,{"v":0.35,"d":"€ 0.35"},{"v":1.2,"d":"€ 1.20"},0.06,"Cyclamen","shutterstock_606768032"]
[{"$f":"IFERROR(INDEX(winkelwagen!I:I,MATCH(B12 & \" (\" & D12 & \" \" & E12 & \")\",winkelwagen!F:F,0)),\"\")","v":""},"Dracaena","bladplanten",3,"stuks",null,"geel/groen",19,955,{"v":0.27,"d":"€ 0.27"},{"v":6.96,"d":"€ 6.96"},0.06,"Dracaena","shutterstock_297120533"]
[{"$f":"IFERROR(INDEX(winkelwagen!I:I,MATCH(B13 & \" (\" & D13 & \" \" & E13 & \")\",winkelwagen!F:F,0)),\"\")","v":""},"Echeveria","cactussen/succulenten",12,"stuks",null,"groen",8,212,{"v":0.22,"d":"€ 0.22"},{"v":0.5,"d":"€ 0.50"},0.06,"Echeveria","shutterstock_606916982"]
[{"$f":"IFERROR(INDEX(winkelwagen!I:I,MATCH(B14 & \" (\" & D14 & \" \" & E14 & \")\",winkelwagen!F:F,0)),\"\")","v":""},"Ficus","bladplanten",6,"stuks",null,"groen",12,236,{"v":0.22,"d":"€ 0.22"},{"v":2.46,"d":"€ 2.46"},0.06,"Ficus","shutterstock_63192685"]
[{"$f":"IFERROR(INDEX(winkelwagen!I:I,MATCH(B15 & \" (\" & D15 & \" \" & E15 & \")\",winkelwagen!F:F,0)),\"\")","v":""},"Gymnocalycium","cactussen/succulenten",18,"stuks",null,"gemengd",8,418,{"v":0.29,"d":"€ 0.29"},{"v":2.28,"d":"€ 2.28"},0.06,"Gymnocalycium","shutterstock_746180971"]
[{"$f":"IFERROR(INDEX(winkelwagen!I:I,MATCH(B16 & \" (\" & D16 & \" \" & E16 & \")\",winkelwagen!F:F,0)),\"\")","v":""},"Hedera","bladplanten",12,"stuks",null,"groen",9,295,{"v":0.26,"d":"€ 0.26"},{"v":0.68,"d":"€ 0.68"},0.06,"Hedera","shutterstock_113502520"]
[{"$f":"IFERROR(INDEX(winkelwagen!I:I,MATCH(B17 & \" (\" & D17 & \" \" & E17 & \")\",winkelwagen!F:F,0)),\"\")","v":""},"Impatiens","perkplanten",12,"stuks",null,"gemengd",9,418,{"v":0.29,"d":"€ 0.29"},{"v":0.21,"d":"€ 0.21"},0.06,"Impatiens","shutterstock_621751583"]
[{"$f":"IFERROR(INDEX(winkelwagen!I:I,MATCH(B18 & \" (\" & D18 & \" \" & E18 & \")\",winkelwagen!F:F,0)),\"\")","v":""},"Kalanchoe","bloeiende planten",16,"stuks",null,"oranje",8,295,{"v":0.26,"d":"€ 0.26"},{"v":0.76,"d":"€ 0.76"},0.06,"Kalanchoe","shutterstock_96762784"]
[{"$f":"IFERROR(INDEX(winkelwagen!I:I,MATCH(B19 & \" (\" & D19 & \" \" & E19 & \")\",winkelwagen!F:F,0)),\"\")","v":""},"Lobelia","perkplanten",12,"stuks",null,"blauw",9,418,{"v":0.29,"d":"€ 0.29"},{"v":0.22,"d":"€ 0.22"},0.06,"Lobelia","shutterstock_430573333"]
[{"$f":"IFERROR(INDEX(winkelwagen!I:I,MATCH(B20 & \" (\" & D20 & \" \" & E20 & \")\",winkelwagen!F:F,0)),\"\")","v":""},"Lobularia","perkplanten",12,"stuks",null,"wit",9,418,{"v":0.29,"d":"€ 0.29"},{"v":0.23,"d":"€ 0.23"},0.06,"Lobularia","shutterstock_751897489"]
[{"$f":"IFERROR(INDEX(winkelwagen!I:I,MATCH(B21 & \" (\" & D21 & \" \" & E21 & \")\",winkelwagen!F:F,0)),\"\")","v":""},"Saintpaulia","bloeiende planten",8,"stuks",null,"paars",12,497,{"v":0.44,"d":"€ 0.44"},{"v":0.68,"d":"€ 0.68"},0.06,"Saintpaulia","shutterstock_531109189"]
[{"$f":"IFERROR(INDEX(winkelwagen!I:I,MATCH(B22 & \" (\" & D22 & \" \" & E22 & \")\",winkelwagen!F:F,0)),\"\")","v":""},"Spathiphyllum","bloeiende planten",1,"stuks",null,"wit",21,800,0,{"v":9.13,"d":"€ 9.13"},0.06,"Spathiphyllum","shutterstock_730306603"]
[{"$f":"IFERROR(INDEX(winkelwagen!I:I,MATCH(B23 & \" (\" & D23 & \" \" & E23 & \")\",winkelwagen!F:F,0)),\"\")","v":""},"Succulentenmix (potmaat 5)","cactussen/succulenten",20,"stuks",null,"gemengd",5,816,{"v":0.5,"d":"€ 0.50"},{"v":0.25,"d":"€ 0.25"},0.06,"Succulentsmix5","shutterstock_479600914"]
[{"$f":"IFERROR(INDEX(winkelwagen!I:I,MATCH(B24 & \" (\" & D24 & \" \" & E24 & \")\",winkelwagen!F:F,0)),\"\")","v":""},"Succulentenmix (potmaat 7)","cactussen/succulenten",20,"stuks",null,"gemengd",7,816,{"v":0.5,"d":"€ 0.50"},{"v":0.35,"d":"€ 0.35"},0.06,"Succulentsmix7","shutterstock_479600914"]
[{"$f":"IFERROR(INDEX(winkelwagen!I:I,MATCH(B25 & \" (\" & D25 & \" \" & E25 & \")\",winkelwagen!F:F,0)),\"\")","v":""},"Tagetes","perkplanten",12,"stuks",null,"oranje",9,418,{"v":0.29,"d":"€ 0.29"},{"v":0.22,"d":"€ 0.22"},0.06,"Tagetes","shutterstock_719386423"]
[{"$f":"IFERROR(INDEX(winkelwagen!I:I,MATCH(B26 & \" (\" & D26 & \" \" & E26 & \")\",winkelwagen!F:F,0)),\"\")","v":""},"Verbena","perkplanten",9,"stuks",null,"gemengd",12,480,{"v":0.29,"d":"€ 0.29"},{"v":0.29,"d":"€ 0.29"},0.06,"Verbena","shutterstock_282046313"]

{"sheet":"databloemisterijartikelen","index":14,"n_rows":30,"n_cols":14,"rows_kept":30,"hidden":true}
["aantal","naam","categorie","inhoud","inhoud eenheid","voorraad (niet meer gebruikt)","besteleenheid","niet in gebruik","niet in gebruik","niet in gebruik","prijs","btw","plaatnaam","afbeelding"]
[{"$f":"IFERROR(INDEX(winkelwagen!I:I,MATCH(B2 & \" (\" & D2 & \" \" & E2 & \")\",winkelwagen!F:F,0)),\"\")","v":""},"accubak ","pot, vaas, schaal",1,"stuks",null,6,{"$nulls":3},{"v":4.45,"d":"€ 4.45"},0.21,"accubak ","shutterstock_131318207"]
[{"$f":"IFERROR(INDEX(winkelwagen!I:I,MATCH(B3 & \" (\" & D3 & \" \" & E3 & \")\",winkelwagen!F:F,0)),\"\")","v":""},"bindtouw klos","hulpmiddelen",500,"gr",null,4,{"$nulls":3},{"v":2.25,"d":"€ 2.25"},0.21,"bindtouwklos","shutterstock_399495664"]
[{"$f":"IFERROR(INDEX(winkelwagen!I:I,MATCH(B4 & \" (\" & D4 & \" \" & E4 & \")\",winkelwagen!F:F,0)),\"\")","v":""},"bladkrans 60 cm","kransen",1,"stuks",null,1,{"$nulls":3},{"v":13.45,"d":"€ 13.45"},0.21,"bladkrans60","bladkrans"]
[{"$f":"IFERROR(INDEX(winkelwagen!I:I,MATCH(B5 & \" (\" & D5 & \" \" & E5 & \")\",winkelwagen!F:F,0)),\"\")","v":""},"bloemenband 25 mm","hulpmiddelen",27.5,"mtr",null,6,{"$nulls":3},{"v":3.7,"d":"€ 3.70"},0.21,"bloemenband25","bloemenband"]
[{"$f":"IFERROR(INDEX(winkelwagen!I:I,MATCH(B6 & \" (\" & D6 & \" \" & E6 & \")\",winkelwagen!F:F,0)),\"\")","v":""},"bloempot Ø 5 cm","pot, vaas, schaal",1,"stuks",null,12,{"$nulls":3},{"v":0.12,"d":"€ 0.12"},0.21,"bloempot5","shutterstock_76904392"]
[{"$f":"IFERROR(INDEX(winkelwagen!I:I,MATCH(B7 & \" (\" & D7 & \" \" & E7 & \")\",winkelwagen!F:F,0)),\"\")","v":""},"bloempot Ø 7 cm","pot, vaas, schaal",1,"stuks",null,12,{"$nulls":3},{"v":0.15,"d":"€ 0.15"},0.21,"bloempot7","shutterstock_76904392"]
[{"$f":"IFERROR(INDEX(winkelwagen!I:I,MATCH(B8 & \" (\" & D8 & \" \" & E8 & \")\",winkelwagen!F:F,0)),\"\")","v":""},"bloempot Ø 9 cm","pot, vaas, schaal",1,"stuks",null,12,{"$nulls":3},{"v":0.27,"d":"€ 0.27"},0.21,"bloempot9","shutterstock_76904392"]
[{"$f":"IFERROR(INDEX(winkelwagen!I:I,MATCH(B9 & \" (\" & D9 & \" \" & E9 & \")\",winkelwagen!F:F,0)),\"\")","v":""},"bloempot Ø 11 cm","pot, vaas, schaal",1,"stuks",null,12,{"$nulls":3},{"v":0.27,"d":"€ 0.27"},0.21,"bloempot11","shutterstock_76904392"]
[{"$f":"IFERROR(INDEX(winkelwagen!I:I,MATCH(B10 & \" (\" & D10 & \" \" & E10 & \")\",winkelwagen!F:F,0)),\"\")","v":""},"bloempot Ø 17 cm","pot, vaas, schaal",1,"stuks",null,12,{"$nulls":3},{"v":0.75,"d":"€ 0.75"},0.21,"bloempot17","shutterstock_76904392"]
[{"$f":"IFERROR(INDEX(winkelwagen!I:I,MATCH(B11 & \" (\" & D11 & \" \" & E11 & \")\",winkelwagen!F:F,0)),\"\")","v":""},"boomstamschijfjes","decoratie",75,"st",null,1,{"$nulls":3},{"v":7.5,"d":"€ 7.50"},0.21,"boomstamschijfjes","boomstamschijfjes"]
[{"$f":"IFERROR(INDEX(winkelwagen!I:I,MATCH(B12 & \" (\" & D12 & \" \" & E12 & \")\",winkelwagen!F:F,0)),\"\")","v":""},"cilindervaas","pot, vaas, schaal",1,"stuks",null,6,{"$nulls":3},{"v":2.9,"d":"€ 2.90"},0.21,"cilindervaas","shutterstock_309992369"]
[{"$f":"IFERROR(INDEX(winkelwagen!I:I,MATCH(B13 & \" (\" & D13 & \" \" & E13 & \")\",winkelwagen!F:F,0)),\"\")","v":""},"elastiek ","hulpmiddelen",1,"kg",null,1,{"$nulls":3},{"v":7.3,"d":"€ 7.30"},0.21,"elastiek ","shutterstock_10373812"]
[{"$f":"IFERROR(INDEX(winkelwagen!I:I,MATCH(B14 & \" (\" & D14 & \" \" & E14 & \")\",winkelwagen!F:F,0)),\"\")","v":""},"houten ondergrond 40x15 cm","pot, vaas, schaal",1,"stuks",null,6,{"$nulls":3},{"v":1.93,"d":"€ 1.93"},0.21,"houtenondergrond","houten ondergrond"]
[{"$f":"IFERROR(INDEX(winkelwagen!I:I,MATCH(B15 & \" (\" & D15 & \" \" & E15 & \")\",winkelwagen!F:F,0)),\"\")","v":""},"jute","decoratie",40,"mtr",null,1,{"$nulls":3},{"v":3.75,"d":"€ 3.75"},0.21,"jute","shutterstock_276250424"]
[{"$f":"IFERROR(INDEX(winkelwagen!I:I,MATCH(B16 & \" (\" & D16 & \" \" & E16 & \")\",winkelwagen!F:F,0)),\"\")","v":""},"krullint","decoratie",250,"mtr",null,1,{"$nulls":3},{"v":1.1,"d":"€ 1.10"},0.21,"krullint","shutterstock_95040898"]
[{"$f":"IFERROR(INDEX(winkelwagen!I:I,MATCH(B17 & \" (\" & D17 & \" \" & E17 & \")\",winkelwagen!F:F,0)),\"\")","v":""},"platmos (gedroogd)","decoratie",500,"gram",null,1,{"$nulls":3},{"v":3.5,"d":"€ 3.50"},0.21,"platmos","shutterstock_376996348"]
[{"$f":"IFERROR(INDEX(winkelwagen!I:I,MATCH(B18 & \" (\" & D18 & \" \" & E18 & \")\",winkelwagen!F:F,0)),\"\")","v":""},"raffia ","hulpmiddelen",1,"kg",null,2,{"$nulls":3},{"v":6.9,"d":"€ 6.90"},0.21,"raffia ","raffia"]
[{"$f":"IFERROR(INDEX(winkelwagen!I:I,MATCH(B19 & \" (\" & D19 & \" \" & E19 & \")\",winkelwagen!F:F,0)),\"\")","v":""},"rustic wire","hulpmiddelen",20,"mtr",null,1,{"$nulls":3},{"v":6,"d":"€ 6.00"},0.21,"rusticwire","rustic wire"]
[{"$f":"IFERROR(INDEX(winkelwagen!I:I,MATCH(B20 & \" (\" & D20 & \" \" & E20 & \")\",winkelwagen!F:F,0)),\"\")","v":""},"schaal 21 cm","pot, vaas, schaal",1,"stuks",null,6,{"$nulls":3},{"v":1.25,"d":"€ 1.25"},0.21,"schaal21","shutterstock_102158770"]
[{"$f":"IFERROR(INDEX(winkelwagen!I:I,MATCH(B21 & \" (\" & D21 & \" \" & E21 & \")\",winkelwagen!F:F,0)),\"\")","v":""},"schaal 25 cm","pot, vaas, schaal",1,"stuks",null,6,{"$nulls":3},{"v":1.85,"d":"€ 1.85"},0.21,"schaal25","shutterstock_102158770"]
[{"$f":"IFERROR(INDEX(winkelwagen!I:I,MATCH(B22 & \" (\" & D22 & \" \" & E22 & \")\",winkelwagen!F:F,0)),\"\")","v":""},"schaal 28 cm","pot, vaas, schaal",1,"stuks",null,6,{"$nulls":3},{"v":2.7,"d":"€ 2.70"},0.21,"schaal28","shutterstock_102158770"]
[{"$f":"IFERROR(INDEX(winkelwagen!I:I,MATCH(B23 & \" (\" & D23 & \" \" & E23 & \")\",winkelwagen!F:F,0)),\"\")","v":""},"steekschuim 15 cm","kransen",6,"stuks",null,1,{"$nulls":3},{"v":11.85,"d":"€ 11.85"},0.21,"steekschuim15","steekschuim 30 cm"]
[{"$f":"IFERROR(INDEX(winkelwagen!I:I,MATCH(B24 & \" (\" & D24 & \" \" & E24 & \")\",winkelwagen!F:F,0)),\"\")","v":""},"steekschuim 30 cm","kransen",4,"stuks",null,1,{"$nulls":3},{"v":15.35,"d":"€ 15.35"},0.21,"steekschuim30","steekschuim 15 cm"]
[{"$f":"IFERROR(INDEX(winkelwagen!I:I,MATCH(B25 & \" (\" & D25 & \" \" & E25 & \")\",winkelwagen!F:F,0)),\"\")","v":""},"strokrans 20 cm","kransen",1,"stuks",null,20,{"$nulls":3},{"v":0.65,"d":"€ 0.65"},0.21,"strokrans20","shutterstock_6780472"]
[{"$f":"IFERROR(INDEX(winkelwagen!I:I,MATCH(B26 & \" (\" & D26 & \" \" & E26 & \")\",winkelwagen!F:F,0)),\"\")","v":""},"strokrans 30 cm","kransen",1,"stuks",null,20,{"$nulls":3},{"v":1,"d":"€ 1.00"},0.21,"strokrans30","shutterstock_6780472"]
[{"$f":"IFERROR(INDEX(winkelwagen!I:I,MATCH(B27 & \" (\" & D27 & \" \" & E27 & \")\",winkelwagen!F:F,0)),\"\")","v":""},"strokrans 35 cm","kransen",1,"stuks",null,20,{"$nulls":3},{"v":1.25,"d":"€ 1.25"},0.21,"strokrans35","shutterstock_6780472"]
[{"$f":"IFERROR(INDEX(winkelwagen!I:I,MATCH(B28 & \" (\" & D28 & \" \" & E28 & \")\",winkelwagen!F:F,0)),\"\")","v":""},"Tillandsia (gedroogd)","decoratie",500,"gram",null,1,{"$nulls":3},{"v":13.75,"d":"€ 13.75"},0.21,"Tillandsia","shutterstock_650079406"]
[{"$f":"IFERROR(INDEX(winkelwagen!I:I,MATCH(B29 & \" (\" & D29 & \" \" & E29 & \")\",winkelwagen!F:F,0)),\"\")","v":""},"vilt","decoratie",5,"stuks",null,1,{"$nulls":3},{"v":7.4,"d":"€ 7.40"},0.21,"vilt","vilt"]
[{"$f":"IFERROR(INDEX(winkelwagen!I:I,MATCH(B30 & \" (\" & D30 & \" \" & E30 & \")\",winkelwagen!F:F,0)),\"\")","v":""},"wikkeldraad ","hulpmiddelen",1,"kg",null,4,{"$nulls":3},{"v":2.9,"d":"€ 2.90"},0.21,"wikkeldraad ","wikkeldraad"]